BEGIN:VCALENDAR
VERSION:2.0
PRODID:-//Boys &amp; Girls Club Of Hilton Head Island - ECPv6.10.1.1//NONSGML v1.0//EN
CALSCALE:GREGORIAN
METHOD:PUBLISH
X-ORIGINAL-URL:https://bgchiltonhead.org
X-WR-CALDESC:Events for Boys &amp; Girls Club Of Hilton Head Island
REFRESH-INTERVAL;VALUE=DURATION:PT1H
X-Robots-Tag:noindex
X-PUBLISHED-TTL:PT1H
BEGIN:VTIMEZONE
TZID:America/New_York
BEGIN:DAYLIGHT
TZOFFSETFROM:-0500
TZOFFSETTO:-0400
TZNAME:EDT
DTSTART:20250309T070000
END:DAYLIGHT
BEGIN:STANDARD
TZOFFSETFROM:-0400
TZOFFSETTO:-0500
TZNAME:EST
DTSTART:20251102T060000
END:STANDARD
END:VTIMEZONE
BEGIN:VEVENT
DTSTART;TZID=America/New_York:20250504T080000
DTEND;TZID=America/New_York:20250504T120000
DTSTAMP:20260422T035313
CREATED:20250123T152517Z
LAST-MODIFIED:20250123T152623Z
UID:3796-1746345600-1746360000@bgchiltonhead.org
SUMMARY:Pedal Hilton Head Island
DESCRIPTION:Pedal Hilton Head Island will take place Sunday\, May 4\, 2025. Join us as we raise money for the most valuable asset we have – our children! Rides for every level of cyclist give peddlers a chance to see Hilton Head Island\, a Gold Level Bike Friendly Community\, through a two-wheeled lens. The routes feature some of the best vistas on the Island and travel through beautiful neighborhoods and communities. For more information\, start times and to register visit http://pedalhhi.org/
URL:https://bgchiltonhead.org/event/pedal-hilton-head-island/
LOCATION:Lowcountry Celebration Park\, 94 Pope Ave\, Hilton Head Island\, SC\, 29928\, United States
CATEGORIES:Special Event
ATTACH;FMTTYPE=image/jpeg:https://bgchiltonhead.org/wp-content/uploads/pedal-HHI.jpg
END:VEVENT
END:VCALENDAR