BEGIN:VCALENDAR
VERSION:2.0
PRODID:-//Boys &amp; Girls Club Of Hilton Head Island - ECPv6.10.1.1//NONSGML v1.0//EN
CALSCALE:GREGORIAN
METHOD:PUBLISH
X-ORIGINAL-URL:https://bgchiltonhead.org
X-WR-CALDESC:Events for Boys &amp; Girls Club Of Hilton Head Island
REFRESH-INTERVAL;VALUE=DURATION:PT1H
X-Robots-Tag:noindex
X-PUBLISHED-TTL:PT1H
BEGIN:VTIMEZONE
TZID:America/New_York
BEGIN:DAYLIGHT
TZOFFSETFROM:-0500
TZOFFSETTO:-0400
TZNAME:EDT
DTSTART:20250309T070000
END:DAYLIGHT
BEGIN:STANDARD
TZOFFSETFROM:-0400
TZOFFSETTO:-0500
TZNAME:EST
DTSTART:20251102T060000
END:STANDARD
END:VTIMEZONE
BEGIN:VEVENT
DTSTART;TZID=America/New_York:20251206T110000
DTEND;TZID=America/New_York:20251206T130000
DTSTAMP:20260421T184153
CREATED:20250819T184512Z
LAST-MODIFIED:20251205T201143Z
UID:4482-1765018800-1765026000@bgchiltonhead.org
SUMMARY:EVENT UPDATE: Candy Cane Classic
DESCRIPTION:Update for Saturday’s Candy Cane Classic \n🌧️Unfortunately\, the forecast isn’t on our side\, so Golf\, Tennis\, and Pickleball will NOT be played tomorrow\, December 6. BUT—we still have a great day planned! \nATTENTION: REGISTERED PARTICIPANTS\nJoin us for a special luncheon at 12:00 PM at Sea Pines Country Club for prize drawings\, silent auction\, and we will draw our “Chance to Win” prize winner! Arrive between 11:00 – 11:30 am to pick up your FREE Salty Dog shirt. Check your email for more details! \n“CHANCE TO WIN” – Donate and enter for a “Chance to Win” some fabulous golf experiences at https://www.classy.org/event/the-ted-flach-memorial-candy-cane-classic/e725374/register/new/select-tickets \nONLINE AUCTION – Check out the Candy Cane Classic Online Auction at https://live.classy.org/register/ccc-online-auction/4d981ca0-7888-4371-86b2-593faf896076 \nThank you for supporting our Hilton Head Island Club Kids!
URL:https://bgchiltonhead.org/event/candy-cane-classic/
LOCATION:Sea Pines Country Club\, 30 Governors Rd\, Hilton Head Island\, SC\, 29928\, United States
CATEGORIES:Special Event
ATTACH;FMTTYPE=image/png:https://bgchiltonhead.org/wp-content/uploads/Candy-Cane-Social-Media-.png
END:VEVENT
END:VCALENDAR